BEGIN:VCALENDAR
VERSION:2.0
PRODID:-//Project STEP - ECPv6.6.4.2//NONSGML v1.0//EN
CALSCALE:GREGORIAN
METHOD:PUBLISH
X-WR-CALNAME:Project STEP
X-ORIGINAL-URL:https://www.projectstep.org
X-WR-CALDESC:Events for Project STEP
REFRESH-INTERVAL;VALUE=DURATION:PT1H
X-Robots-Tag:noindex
X-PUBLISHED-TTL:PT1H
BEGIN:VTIMEZONE
TZID:America/New_York
BEGIN:DAYLIGHT
TZOFFSETFROM:-0500
TZOFFSETTO:-0400
TZNAME:EDT
DTSTART:20250309T070000
END:DAYLIGHT
BEGIN:STANDARD
TZOFFSETFROM:-0400
TZOFFSETTO:-0500
TZNAME:EST
DTSTART:20251102T060000
END:STANDARD
END:VTIMEZONE
BEGIN:VEVENT
DTSTART;VALUE=DATE:20250408
DTEND;VALUE=DATE:20250519
DTSTAMP:20260420T073716
CREATED:20250411T222113Z
LAST-MODIFIED:20250411T222113Z
UID:2448-1744070400-1747612799@www.projectstep.org
SUMMARY:Spring Auction
DESCRIPTION:Join our auction running online from April 8\, 2025 to May 18\, 2025. All proceeds support Project STEP’s mission to provide equitable access to high-quality music education. Everyone is welcome to participate and bid—don’t miss your chance to support a great cause and win amazing items! In addition to bidding on items\, you also may fund-a-need to support our program directly.
URL:https://www.projectstep.org/event/spring-auction/
LOCATION:NY
END:VEVENT
END:VCALENDAR